BEGIN:VCALENDAR

VERSION:2.0

PRODID:-//hacksw/handcal//NONSGML v1.0//EN

BEGIN:VEVENT

UID:b38c31f8f10006952932d3e53a120b41

DTSTAMP:20260420T090515Z

DTSTART:20260418T113000

DTEND:20260418T120000

SUMMARY:L32939532 - 13-15 Lombok Court, TAMBORINE MOUNTAIN QLD 4272

LOCATION:13-15 Lombok Court, TAMBORINE MOUNTAIN QLD 4272

END:VEVENT

END:VCALENDAR